BEGIN:VCALENDAR
VERSION:2.0
METHOD:PUBLISH
PRODID:-//Accessible Web Design//My Calendar//http://www.joedolson.com//v//EN';
BEGIN:VEVENT
UID:825-32
LOCATION:
SUMMARY:Broder 7
DTSTAMP:20260408T000000
ORGANIZER;CN=24Sten:MAILTO:sten.reideby@gmail.com
DTSTART:20260408T000000
DTEND:20260408T000000
CATEGORIES:5
URL;VALUE=URI:https://bastubroderna.se/?mc-events=broder-7-2&amp;mc_id=825
DESCRIPTION:Födelsedag Broder 7
END:VEVENT
END:VCALENDAR