BEGIN:VCALENDAR
VERSION:2.0
METHOD:PUBLISH
PRODID:-//Accessible Web Design//My Calendar//http://www.joedolson.com//v//EN';
BEGIN:VEVENT
UID:1039-33
LOCATION:
SUMMARY:Broder 8
DTSTAMP:20270310
ORGANIZER;CN=webbevarare:MAILTO:harry@stema.se
DTSTART:20270310
DTEND:20270311
CATEGORIES:5
URL;VALUE=URI:https://bastubroderna.se/?mc-events=broder-8-2&amp;mc_id=1039
DESCRIPTION:Födelsedag Broder 8
X-FUNAMBOL-ALLDAY: 1
X-MICROSOFT-CDO-ALLDAYEVENT: TRUE

END:VEVENT
END:VCALENDAR