BEGIN:VCALENDAR
VERSION:2.0
METHOD:PUBLISH
PRODID:-//Accessible Web Design//My Calendar//http://www.joedolson.com//v//EN';
BEGIN:VEVENT
UID:859-29
LOCATION:
SUMMARY:Broder 4
DTSTAMP:20270330T000000
ORGANIZER;CN=webbevarare:MAILTO:harry@stema.se
DTSTART:20270330T000000
DTEND:20270330T000000
CATEGORIES:5
URL;VALUE=URI:https://bastubroderna.se/?mc-events=broder-4-2&amp;mc_id=859
DESCRIPTION:Födelsedag Broder 4
END:VEVENT
END:VCALENDAR