BEGIN:VCALENDAR
VERSION:2.0
METHOD:PUBLISH
PRODID:-//Accessible Web Design//My Calendar//http://www.joedolson.com//v//EN';
BEGIN:VEVENT
UID:836-63
LOCATION:
SUMMARY:Broder 16
DTSTAMP:20260520T000000
ORGANIZER;CN=webbevarare:MAILTO:harry@stema.se
DTSTART:20260520T000000
DTEND:20260520T000000
CATEGORIES:5
URL;VALUE=URI:https://bastubroderna.se/?mc-events=broder-16-2&amp;mc_id=836
DESCRIPTION:Födelsedag Broder 16
END:VEVENT
END:VCALENDAR