BEGIN:VCALENDAR
VERSION:2.0
METHOD:PUBLISH
PRODID:-//Accessible Web Design//My Calendar//http://www.joedolson.com//v//EN';
BEGIN:VEVENT
UID:688-132
LOCATION:
SUMMARY:Broder 14
DTSTAMP:20260514
ORGANIZER;CN=webbevarare:MAILTO:harry@stema.se
DTSTART:20260514
DTEND:20260515
CATEGORIES:5
URL;VALUE=URI:https://bastubroderna.se/?mc-events=broder-14-2&amp;mc_id=688
DESCRIPTION:Födelsedag Broder 14
X-FUNAMBOL-ALLDAY: 1
X-MICROSOFT-CDO-ALLDAYEVENT: TRUE

END:VEVENT
END:VCALENDAR