BEGIN:VCALENDAR
VERSION:2.0
METHOD:PUBLISH
PRODID:-//Accessible Web Design//My Calendar//http://www.joedolson.com//v//EN';
BEGIN:VEVENT
UID:503-67
LOCATION:Hofors kolare Fäbodbäcksvägen 2  Hofors  813 36
SUMMARY:Basturesa till Hofors kolare
DTSTAMP:20140426T000000
ORGANIZER;CN=3Bjorn:MAILTO:b.wesstrom@telia.com
DTSTART:20140426T000000
DTEND:20140427T000000
CATEGORIES:3
URL;VALUE=URI:https://bastubroderna.se/?mc-events=basturesa-till-hofors-kolare-2&amp;mc_id=503
DESCRIPTION:Basturesa till Hofors kolares rökbastu. Avresa från Åkersberga kl. 09.30. Mer information om Hofors Kolare och rökbastun hittar du i bloggen. Adress och koordinaterna finns inlagda i kalendern så att du kan kopiera dem till din egen dator. Klicka på den blåmarkerade länken "Map Hofors kolare" och du länks till hemsidan för att öppna ett&hellip;
END:VEVENT
END:VCALENDAR